BEGIN:VCALENDAR
VERSION:2.0
PRODID:-//KI7W - Big Horn Basin Amateur Radio Club - ECPv6.15.17//NONSGML v1.0//EN
CALSCALE:GREGORIAN
METHOD:PUBLISH
X-WR-CALNAME:KI7W - Big Horn Basin Amateur Radio Club
X-ORIGINAL-URL:https://www.ki7w.org
X-WR-CALDESC:Events for KI7W - Big Horn Basin Amateur Radio Club
REFRESH-INTERVAL;VALUE=DURATION:PT1H
X-Robots-Tag:noindex
X-PUBLISHED-TTL:PT1H
BEGIN:VTIMEZONE
TZID:America/Denver
BEGIN:DAYLIGHT
TZOFFSETFROM:-0700
TZOFFSETTO:-0600
TZNAME:MDT
DTSTART:20240310T090000
END:DAYLIGHT
BEGIN:STANDARD
TZOFFSETFROM:-0600
TZOFFSETTO:-0700
TZNAME:MST
DTSTART:20241103T080000
END:STANDARD
BEGIN:DAYLIGHT
TZOFFSETFROM:-0700
TZOFFSETTO:-0600
TZNAME:MDT
DTSTART:20250309T090000
END:DAYLIGHT
BEGIN:STANDARD
TZOFFSETFROM:-0600
TZOFFSETTO:-0700
TZNAME:MST
DTSTART:20251102T080000
END:STANDARD
BEGIN:DAYLIGHT
TZOFFSETFROM:-0700
TZOFFSETTO:-0600
TZNAME:MDT
DTSTART:20260308T090000
END:DAYLIGHT
BEGIN:STANDARD
TZOFFSETFROM:-0600
TZOFFSETTO:-0700
TZNAME:MST
DTSTART:20261101T080000
END:STANDARD
END:VTIMEZONE
BEGIN:VEVENT
DTSTART;TZID=America/Denver:20250824T080000
DTEND;TZID=America/Denver:20250824T150000
DTSTAMP:20260425T090152
CREATED:20250329T110336Z
LAST-MODIFIED:20250329T110336Z
UID:114-1756022400-1756047600@www.ki7w.org
SUMMARY:BHBARC Swapmeet
DESCRIPTION:Calling all amateurs! The Big Horn Basin Amateur Radio Club will be hosting a Swap Meet as part of our annual club picnic. All amateurs are welcome to attend – the event is free for all. If you are wanting a booth to sell gear\, please contact Casey (KC7E) at contact@kc7e.org to reserve a space. The Swap Meet will start at 9am\, the monthly club meeting begins at 11:30am\, and a free picnic will follow the club meeting. Donations are not expected but are very much appreciated.
URL:https://www.ki7w.org/event/bhbarc-swapmeet/
LOCATION:Medicine Lodge Archeological Site\, 4800 Co Rd 52\, Hyattville\, WY\, 82428\, United States
ORGANIZER;CN="Big Horn Basin Amateur Radio Club":MAILTO:president@ki7w.org
END:VEVENT
END:VCALENDAR